BEGIN:VCALENDAR
VERSION:2.0
PRODID:-//ChamberMaster//Event Calendar 2.0//EN
METHOD:PUBLISH
X-PUBLISHED-TTL:P3D
REFRESH-INTERVAL:P3D
CALSCALE:GREGORIAN
BEGIN:VEVENT
DTSTART;VALUE=DATE:20260523
DTEND;VALUE=DATE:20260524
TRANSP:TRANSPARENT
X-MICROSOFT-CDO-ALLDAYEVENT:TRUE
SUMMARY:A DAY TO BEAT 12
DESCRIPTION:We are excited to announce we would like our upcoming community event to be "A Day to Beat 12\," and we are reaching out to request your support and participation. This event is designed to bring together first responders and community members for a day of fun\, friendly competition\, and relationship-building.\n\nThe event will feature:\n\n\n	Basketball games: Community teams vs. first responders\n	Kickball matches: Adults and youth playing alongside local heroes\n	Double Dutch: First Responders\, Adults and youth jumping for a cause\n	Food\, music\, and family activities: Creating a fun and welcoming atmosphere for all\n\n\nOur goal is to strengthen community relationships\, promote trust\, and encourage open dialogue between residents and first responders while having a great time together.
X-ALT-DESC;FMTTYPE=text/html:<p style="text-align:left"><span style="color:black !important\; font-family:arial\,sans-serif\; font-size:12pt">We are excited to announce we would like our upcoming community event to be <strong>&ldquo\;A Day to Beat 12\,&rdquo\;</strong>&nbsp\;and we are reaching out to request your support and participation. This event is designed to bring together <strong>first responders and community members</strong>&nbsp\;for a day of fun\, friendly competition\, and relationship-building.</span></p>\n\n<p style="text-align:left"><span style="color:black !important\; font-family:arial\,sans-serif\; font-size:12pt">The event will feature:</span></p>\n\n<ul>\n	<li><span style="font-family:arial\,sans-serif"><strong>Basketball games:</strong>&nbsp\;Community teams vs. first responders</span></li>\n	<li><span style="font-family:arial\,sans-serif"><strong>Kickball matches:</strong>&nbsp\;Adults and youth playing alongside local heroes</span></li>\n	<li><span style="font-family:arial\,sans-serif"><strong>Double Dutch:</strong>&nbsp\;First Responders\, Adults and youth jumping for a cause</span></li>\n	<li><span style="font-family:arial\,sans-serif"><strong>Food\, music\, and family activities:</strong>&nbsp\;Creating a fun and welcoming atmosphere for all</span></li>\n</ul>\n\n<p style="text-align:left"><span style="color:black !important\; font-family:arial\,sans-serif\; font-size:12pt">Our goal is to strengthen community relationships\, promote trust\, and encourage open dialogue between residents and first responders&mdash\;while having a great time together.</span></p>\n
LOCATION:JP MOSELEY PARK STOCKBRIDGE\, GA
UID:e.1272.29781
SEQUENCE:3
DTSTAMP:20260421T144714Z
URL:https://business.henrycounty.com/events/details/a-day-to-beat-12-29781
END:VEVENT

END:VCALENDAR
