BEGIN:VCALENDAR
VERSION:2.0
PRODID:-//ChamberMaster//Event Calendar 2.0//EN
METHOD:PUBLISH
X-PUBLISHED-TTL:P3D
REFRESH-INTERVAL:P3D
CALSCALE:GREGORIAN
BEGIN:VEVENT
DTSTART:20250610T120000Z
DTEND:20250610T133000Z
X-MICROSOFT-CDO-ALLDAYEVENT:FALSE
SUMMARY:Coffee and Collaboration ft. Your Business Elevator Pitch
DESCRIPTION:Join our monthly Coffee & Collaboration in the Business Resource Center. Make connections. Enjoy some coffee. Grow your business.\n\n\nShare Your "Elevator Pitch" at Coffee & Collaboration!\n\n\n\nWe're excited to invite you to a special opportunity at our upcoming Coffee & Collaboration event! As a valued member of the Henry County Chamber of Commerce\, come take a few minutes to present your "Elevator Pitch" and share insights about your business successes\, goals for 2025\, and plans for growth\, scaling\, diversification\, or expansion - in 2 minutes or less\, please!\n\n\n\nVideo and photos from this event will be featured in the Chamber's Social Media. Rise and shine for this special member focused feature! \n\n\n\nThis is a great chance to connect with fellow business owners\, gain visibility\, and inspire others in our community.
X-ALT-DESC;FMTTYPE=text/html:<strong>Join our monthly Coffee &amp\; Collaboration in the Business Resource Center. Make connections. Enjoy some coffee. Grow your business.</strong>\n<hr /><br />\n<strong><span style="color:#00a6cf\;"><span style="font-size:20px\;">Share Your &quot\;Elevator Pitch&quot\; at Coffee &amp\; Collaboration!</span></span></strong><br />\n<br />\nWe&#39\;re excited to invite you to a special opportunity at our upcoming <strong>Coffee &amp\; Collaboration</strong> event! As a valued member of the Henry County Chamber of Commerce\, come take a few minutes to present your <strong>&quot\;Elevator Pitch&quot\;</strong> and share insights about your business successes\, goals for 2025\, and plans for growth\, scaling\, diversification\, or expansion - <span style="color:#00a6cf\;"><strong><em>in 2 minutes or less\, please!</em></strong></span><br />\n<br />\n<span style="font-size:14px\;"><span style="color:#00a6cf\;"><strong>Video and photos from this event will be featured in the Chamber&#39\;s Social Media. Rise and shine for this special&nbsp\;member&nbsp\;focused feature!&nbsp\;</strong></span></span><br />\n<br />\nThis is a great chance to connect with fellow business owners\, gain visibility\, and inspire others in our community.<br />\n&nbsp\;
LOCATION:Henry County Chamber of Commerce Small Business Resource Center 1709 Highway 20 West McDonough\, GA
UID:e.1272.28788
SEQUENCE:3
DTSTAMP:20260420T142507Z
URL:https://business.henrycounty.com/events/details/coffee-and-collaboration-ft-your-business-elevator-pitch-28788
END:VEVENT

END:VCALENDAR
