BEGIN:VCALENDAR
VERSION:2.0
PRODID:-//ChamberMaster//Event Calendar 2.0//EN
METHOD:PUBLISH
X-PUBLISHED-TTL:P3D
REFRESH-INTERVAL:P3D
CALSCALE:GREGORIAN
BEGIN:VEVENT
DTSTART:20250601T180000Z
DTEND:20250601T200000Z
X-MICROSOFT-CDO-ALLDAYEVENT:FALSE
SUMMARY:Nalhlie Daly State Farm Agency 1 Year Anniversary Celebration
DESCRIPTION:We are celebrating one year of being part of this amazing community!?? Stop by Nalhlie Daly State Farm Agency on June 1st at 2 p.m. for some refreshments and networking  we would love to thank you in person for all your support!??\n\n#OneYearCelebration #CommunityLove #NalhlieDalyStateFarm
X-ALT-DESC;FMTTYPE=text/html:We are celebrating one year of being part of this amazing community!??&nbsp\;Stop by Nalhlie Daly State Farm Agency on June 1st at 2 p.m. for some refreshments and networking&mdash\; we would love to thank you in person for all your support!??<br />\n#OneYearCelebration #CommunityLove #NalhlieDalyStateFarm
LOCATION:685 Highway 3N #707 Hampton\, GA 30228
UID:e.1272.28720
SEQUENCE:3
DTSTAMP:20260424T142958Z
URL:https://business.henrycounty.com/events/details/nalhlie-daly-state-farm-agency-1-year-anniversary-celebration-28720
END:VEVENT

END:VCALENDAR
