BEGIN:VCALENDAR
VERSION:2.0
PRODID:-//ChamberMaster//Event Calendar 2.0//EN
METHOD:PUBLISH
X-PUBLISHED-TTL:P3D
REFRESH-INTERVAL:P3D
CALSCALE:GREGORIAN
BEGIN:VEVENT
DTSTART:20240920T153000Z
DTEND:20240920T160000Z
X-MICROSOFT-CDO-ALLDAYEVENT:FALSE
SUMMARY:Ribbon Cutting Ram-Tech New Location
DESCRIPTION:
X-ALT-DESC;FMTTYPE=text/html:
LOCATION:169 Decatur Rd McDonough\, Ga 30253
UID:e.1272.27443
SEQUENCE:3
DTSTAMP:20260422T143708Z
URL:https://business.henrycounty.com/events/details/ribbon-cutting-ram-tech-new-location-27443
END:VEVENT

END:VCALENDAR
