BEGIN:VCALENDAR
VERSION:2.0
PRODID:-//ChamberMaster//Event Calendar 2.0//EN
METHOD:PUBLISH
X-PUBLISHED-TTL:P3D
REFRESH-INTERVAL:P3D
CALSCALE:GREGORIAN
BEGIN:VEVENT
DTSTART:20260507T150000Z
DTEND:20260507T180000Z
X-MICROSOFT-CDO-ALLDAYEVENT:FALSE
SUMMARY:Ribbon Cutting TrueScript Court Reporting Institute\, LLC [In-person] Enhanced
DESCRIPTION:ENHANCED RIBBON CUTTING
X-ALT-DESC;FMTTYPE=text/html:<strong>ENHANCED RIBBON CUTTING</strong>
LOCATION:1709 Hwy 20 W McDonough 30253
UID:e.1272.30409
SEQUENCE:3
DTSTAMP:20260422T080504Z
URL:https://business.henrycounty.com/events/details/ribbon-cutting-truescript-court-reporting-institute-llc-in-person-enhanced-30409
END:VEVENT

END:VCALENDAR
